Workbook

Sheet Contenido Presupuesto
B1: Universidad de Puerto Rico
B2: Recinto de Río Piedras
B3: Oficina de la Rectoría
B4: División de Investigación Institucional y Avalúo
B6: Presupuesto total original asignado al Recinto
B7: Año Fiscal 2021-22 al 2026-2027
B9: prmr/octubre2026
B10: Fuente de información: formulario 004-Presupuesto (Certificación 99 SA 2020-2021)
A12: 1 | B12: Resumen
A13: 2 | B13: Año Fiscal 2021-22
A14: 3 | B14: Año Fiscal 2022-23
A15: 4 | B15: Año Fiscal 2023-24
A16: 5 | B16: Año Fiscal 2024-2025
A17: 6 | B17: Año Fiscal 2025-2026
A18: 7 | B18: Año fiscal 2026-2027
B20: Página web de la DIIA: https://diia.uprrp.edu/
B21: Catálogo de datos: https://diia.uprrp.edu/datos-institucionales/
B22: Glosario Institucional: https://diia.uprrp.edu/datos-institucionales/glosarios/
B23: Redes sociales: https://linktr.ee/diia.rrp
B25: Persona contacto: Patricia R. Mattei Ramos (patricia.mattei@upr.edu)
B26: Dirección Postal: 10 AVE. UNIVERSIDAD STE 1001, San Juan PR 00925-2530
B27: Dirección física: Edificio Román Baldorioty de Castro, Primer Piso
B28: Teléfono: (787) 764-0000 ext. 83207
B29: Correo electrónico: peticionesdiia.rrp@upr.edu
B31: Evalúe nuestros servicios: https://forms.cloud.microsoft/r/q38UPniepV
B33: Patrono con Igualdad de Oportunidades en el Empleo M/M/V/I

Sheet Resumen
A1: Universidad de Puerto Rico - Recinto de Rio Piedras
A2: Decanato de Asuntos Académicos
A3: División de Investigación Institucional y Avalúo
E4: prmr - octubre2026
A5: Presupuesto total original asignado al Recinto
A8: Fuente de información: formulario 004-Presupuesto (Certificación 99 SA 2020-2021)
B9: Año Fiscal 2021-2022 | C9: Año Fiscal 2022-2023 | D9: Año Fiscal 2023-2024 | E9: Año Fiscal 2024-2025 | F9: Año Fiscal 2025-2026 | G9: Año Fiscal 2026-2027
A10: Presupuesto total original asignado al Recinto | B10: =B12+B13 -> 170504286 | C10: =C12+C13 -> 175565543 | D10: =D12+D13 -> 175253200 | E10: =SUM(E12:E13) -> 172048404 | F10: =SUM(F12:F13) -> 176117196 | G10: =SUM(G12:G13) -> 169037107
A12: Rectoria, decantos y otras dependencias | B12: ='004-Presupuesto AF 21-22'!B12 -> 78375750 | C12: ='004-Presupuesto AF 22-23'!B12 -> 79337864 | D12: ='004-Presupuesto AF 23-24'!B12 -> 83294503 | E12: ='004-Presupuesto AF 24-25'!B12 -> 74331263 | F12: ='004-Presupuesto AF 25-26'!B12 -> 77406999 | G12: ='004-Presupuesto AF 26-27'!B13 -> 74095883
A13: Facultad o Escuela | B13: =SUM(B14:B23) -> 92128536 | C13: =SUM(C14:C23) -> 96227679 | D13: =SUM(D14:D23) -> 91958697 | E13: ='004-Presupuesto AF 24-25'!E12 -> 97717141 | F13: ='004-Presupuesto AF 25-26'!E12 -> 98710197 | G13: ='004-Presupuesto AF 26-27'!E13 -> 94941224
A14: Escuela de Arquitectura | B14: 3222996 | C14: 3510111 | D14: 3482015 | E14: 3890004 | F14: 3903095 | G14: 4260067
A15: Escuela de Derecho | B15: 6239650 | C15: 6923173 | D15: 6981357 | E15: 6896535 | F15: 6934745 | G15: 6332877
A16: Escuela de Planificación | B16: 884387 | C16: 911460 | D16: 967485 | E16: 1173173 | F16: 1182108 | G16: 1050532
A17: Facultad de Administración de Empresas | B17: 8668617 | C17: 8843062 | D17: 8102071 | E17: 8535857 | F17: 8752712 | G17: 8191058
A18: Facultad de Ciencias Naturales | B18: 16223590 | C18: 16786793 | D18: 16371699 | E18: 16526121 | F18: 17011281 | G18: 16705776
A19: Facultad de Ciencias Sociales | B19: 12391469 | C19: 13463899 | D19: 12596628 | E19: 13107107 | F19: 13356697 | G19: 13539474
A20: Facultad de Comunicación y Ciencias de Información | B20: 2561409 | C20: 2704349 | D20: 2412240 | E20: 3608325 | F20: 3656372 | G20: 3396856
A21: Facultad de Educación | B21: 14394356 | C21: 14900332 | D21: 13887604 | E21: 14910506 | F21: 14975938 | G21: 14191401
A22: Facultad de Estudios Generales | B22: 12560866 | C22: 13197382 | D22: 13037616 | E22: 13529453 | F22: 13785721 | G22: 13535713
A23: Facultad de Humanidades | B23: 14981196 | C23: 14987118 | D23: 14119982 | E23: 15053382 | F23: 15151528 | G23: 13737470
A24: Ascensos en Rango | B24: 0 | C24: 0 | D24: 0 | E24: 486675 | F24: 0 | G24: 0

Sheet 004-Presupuesto AF 21-22
A1: Universidad de Puerto Rico - Recinto de Rio Piedras
A2: Decanato de Asuntos Académicos
A3: División de Investigación Institucional y Avalúo
E4: sefp - 2/dic/21
A5: Presupuesto total original asignado al Recinto
A6: Año Fiscal 2021-2022
A8: Fuente de información: formulario 004-Presupuesto (Certificación 99 SA 2020-2021)
A9: Presupuesto total original asignado al Recinto | B9: 170504286
A11: Rectoria, decantos y otras dependencias | B11: $ cantidad | D11: Facultad o Escuela | E11: $ cantidad
A12: Total | B12: =SUM(B13:B38) -> 78375750 | D12: Total | E12: =SUM(E13:E22) -> 92128536
A13: Oficina del Rector y unidades adscritas | B13: 3879609 | D13: Escuela de Arquitectura | E13: 3222996
A14: Senado Académico | B14: 237399 | D14: Escuela de Derecho | E14: 6239650
A15: Junta Administrativa | B15: 42363 | D15: Escuela de Planificación | E15: 884387
A16: Decanato de Administración | B16: 6015562 | D16: Facultad de Administración de Empresas | E16: 8668617
A17: Decanato de Asuntos Académicos | B17: 3883828 | D17: Facultad de Ciencias Naturales | E17: 16223590
A18: Decanato de Estudios Graduados e Investigación (DEGI) | B18: 1299835 | D18: Facultad de Ciencias Sociales | E18: 12391469
A19: Decanato de Estudiantes | B19: 5894201 | D19: Facultad de Comunicación e Información | E19: 2561409
A20: División de Educación Continua y Estudios Profesionales (DECEP) | B20: 162334 | D20: Facultad de Educación | E20: 14394356
A21: División de Seguridad y Manejo de Riesgos (DSMR) | B21: 2851354 | D21: Facultad de Estudios Generales | E21: 12560866
A22: División de Tecnologías Académicas y Administrativas | B22: 1788041 | D22: Facultad de Humanidades | E22: 14981196
A23: Estación de Radio y TV (WRTU) | B23: 825187
A24: Oficina de Planificación y Desarrollo Físico | B24: 565587
A25: Oficina de Protección Ambiental y Seguridad Ocupacional (OPASO) | B25: 838073 | D25: Certificación Junta Administrativa Núm. 008, Año Académico 2021-2022
A26: Oficina para la Conservación de las Instalaciones Universitarias (OCIU) | B26: 12006017
A27: Museo de Historia, Antropología y Arte | B27: 352151 | D27: Certificacion-008-Ano-Academico-2021-2022-Presupuesto-aprobado-UPR-RP.pdf
A28: Sistema de Bibliotecas | B28: 5438816
A29: Teatro de la Universidad | B29: 205586
A30: Servicios de Seguridad y Vigilancia Privada | B30: 941102
A31: Utilidades (teléfono, agua y alcantarillado, energía eléctrica, etc.) | B31: 9554767
A32: Recobro de costos indirectos | B32: 2013810
A33: Reserva para aportación adicional al Sitema de Retiro y Plan Médico de Empleados | B33: 8622062
A34: Ayudantías graduadas | B34: 1984688
A35: Cuota de laboratorios | B35: 1274858
A36: Cuota de mantenimiento | B36: 2138483
A37: Cuota de tecnologías | B37: 607445
A38: Otras partidas presupuestarias | B38: 4952592

Sheet 004-Presupuesto AF 22-23
A1: Universidad de Puerto Rico - Recinto de Rio Piedras
A2: Decanato de Asuntos Académicos
A3: División de Investigación Institucional y Avalúo
E4: sefp - 22/sept/23
A5: Presupuesto total original asignado al Recinto
A6: Año Fiscal 2022-2023
A8: Fuente de información: formulario 004-Presupuesto (Certificación 99 SA 2020-2021)
A9: Presupuesto total original asignado al Recinto | B9: =B12+E12 -> 175565543
A11: Rectoria, decantos y otras dependencias | B11: $ cantidad | D11: Facultad o Escuela | E11: $ cantidad
A12: Total | B12: =B13+B17+B26+B34+B39+B44+B48 -> 79337864 | D12: Total | E12: =SUM(E13:E22) -> 96227679
A13: Servicio a la Comunidad | B13: =SUM(B14:B16) -> 1333365 | D13: Escuela de Arquitectura | E13: 3510111
A14: Estación de Radio y TV (WRTU) | B14: 835397 | D14: Escuela de Derecho | E14: 6923173
A15: Teatro de la Universidad | B15: 128051 | D15: Escuela de Planificación | E15: 911460
A16: Museo de Historia, Antropología y Arte | B16: 369917 | D16: Facultad de Administración de Empresas | E16: 8843062
A17: Decanatos Ejecutivos | B17: =SUM(B18:B25) -> 24901714 | D17: Facultad de Ciencias Naturales | E17: 16786793
A18: Decanato de Asuntos Académicos | B18: 3592287 | D18: Facultad de Ciencias Sociales | E18: 13463899
A19: Sistema de Bibliotecas | B19: 5680431 | D19: Facultad de Comunicación e Información | E19: 2704349
A20: Decanato de Estudiantes | B20: 5679271 | D20: Facultad de Educación | E20: 14900332
A21: Decanato de Administración | B21: 5994237 | D21: Facultad de Estudios Generales | E21: 13197382
A22: Decanato de Estudios Graduados e Investigación (DEGI) | B22: 1125938 | D22: Facultad de Humanidades | E22: 14987118
A23: Fondo Institucional parInvestigación | B23: 300000
A24: Ayudantías Graduadas | B24: 600000
A25: Recobro de Costos Indirectos | B25: 1929550 | D25: Certificación Junta Administrativa Núm. 004, Año Académico 2022-2023
A26: Rectoria y Unidades Adscritas | B26: =SUM(B27:B33) -> 10974499
A27: Oficina del Rector y unidades adscritas | B27: 4005977 | D27: Presupuesto-aprobado-Certificacion-004-Ano-Academico-2022-2023-Junta-Administrativa-UPR-RP-1.pdf
A28: División de Educación Continua y Estudios Profesionales (DECEP) | B28: 280576
A29: División de Tecnologías Académicas y Administrativas | B29: 1818031
A30: Senado Académico | B30: 239904
A31: Junta Administrativa | B31: 43017
A32: División de Seguridad y Manejo de Riesgos (DSMR) | B32: 2786994
A33: Servicios de Seguridad y Vigilancia Privada | B33: 1800000
A34: Operacion y Mantenimiento de PIanta Fisica | B34: =SUM(B35:B38) -> 15240098
A35: Oficina para la Conservación de las Instalaciones Universitarias (OCIU) | B35: 11849431
A36: Oficina de Protección Ambiental y Seguridad Ocupacional (OPASO) | B36: 819911
A37: Oficina de Planificación y Desarrollo Físico | B37: 431756
A38: Planta Central - Aire acondicionado, Asignación de Cuota de Mantenimiento en AF 23 | B38: 2139000
A39: Gastos Generales | B39: =SUM(B40:B43) -> 12585038
A40: Agua y Alcantarillado | B40: 1013038
A41: Energia Electrica | B41: 11500000
A42: Plan Medico Estudiantil '/ | B42: 0
...

Sheet 004-Presupuesto AF 23-24
A1: Universidad de Puerto Rico - Recinto de Rio Piedras
A2: Decanato de Asuntos Académicos
A3: División de Investigación Institucional y Avalúo
E4: sefp - 22/sept/23
A5: Presupuesto total original asignado al Recinto
A6: Año Fiscal 2023-2024
A8: Fuente de información: formulario 004-Presupuesto (Certificación 99 SA 2020-2021)
A9: Presupuesto total original asignado al Recinto | B9: =B12+E12 -> 175253200
A11: Rectoria, decantos y otras dependencias | B11: $ cantidad | D11: Facultad o Escuela | E11: $ cantidad
A12: Total | B12: =B13+B17+B26+B34+B38+B39+B43 -> 83294503 | D12: Total | E12: =SUM(E13:E22) -> 91958697
A13: Servicio a la Comunidad | B13: =SUM(B14:B16) -> 1442518 | D13: Escuela de Arquitectura | E13: 3482015
A14: Estación de Radio y TV (WRTU) | B14: 811798 | D14: Escuela de Derecho | E14: 6981357
A15: Teatro de la Universidad | B15: 191243 | D15: Escuela de Planificación | E15: 967485
A16: Museo de Historia, Antropología y Arte | B16: 439477 | D16: Facultad de Administración de Empresas | E16: 8102071
A17: Decanatos Ejecutivos | B17: =SUM(B18:B25) -> 24844574 | D17: Facultad de Ciencias Naturales | E17: 16371699
A18: Decanato de Asuntos Académicos | B18: 3573105 | D18: Facultad de Ciencias Sociales | E18: 12596628
A19: Sistema de Bibliotecas | B19: 5048415 | D19: Facultad de Comunicación e Información | E19: 2412240
A20: Decanato de Estudiantes | B20: 5683756 | D20: Facultad de Educación | E20: 13887604
A21: Decanato de Administración | B21: 6117798 | D21: Facultad de Estudios Generales | E21: 13037616
A22: Decanato de Estudios Graduados e Investigación (DEGI) | B22: 1138500 | D22: Facultad de Humanidades | E22: 14119982
A23: Fondo Institucional parInvestigación | B23: 300000
A24: Ayudantías Graduadas | B24: 750000
A25: Recobro de Costos Indirectos | B25: 2233000 | D25: Certificación Junta Administrativa Núm. 005, Año Académico 2023-2024
A26: Rectoria y Unidades Adscritas | B26: =SUM(B27:B33) -> 10943868
A27: Oficina del Rector y unidades adscritas | B27: 3933098 | D27: Cert-005-Distribución-Presupuestaria-2023-2024.pdf
A28: División de Educación Continua y Estudios Profesionales (DECEP) | B28: 333609
A29: División de Tecnologías Académicas y Administrativas | B29: 2014126
A30: Senado Académico | B30: 240933
A31: Junta Administrativa | B31: 44217
A32: División de Seguridad y Manejo de Riesgos (DSMR) | B32: 2577885
A33: Servicios de Seguridad y Vigilancia Privada | B33: 1800000
A34: Operacion y Mantenimiento de PIanta Fisica | B34: =SUM(B35:B37) -> 11670202
A35: Oficina para la Conservación de las Instalaciones Universitarias (OCIU) | B35: 10409047
A36: Oficina de Protección Ambiental y Seguridad Ocupacional (OPASO) | B36: 688295
A37: Oficina de Planificación y Desarrollo Físico | B37: 572860
A38: Presupuesto asignado para utilidades (teléfono, agua y alcantarillado, energía eléctrica, etc.) | B38: 14242500
A39: Cuotas | B39: =SUM(B40:B42) -> 4518600
A40: Cuota de tecnologías | B40: 1306000
A41: Cuota de laboratorios | B41: 672600
A42: Cuota de mantenimiento | B42: 2540000
...

Sheet 004-Presupuesto AF 24-25
A1: Universidad de Puerto Rico - Recinto de Rio Piedras
A2: Decanato de Asuntos Académicos
A3: División de Investigación Institucional y Avalúo
E4: prmr - 18/julio/2025
A5: Presupuesto total original asignado al Recinto
A6: Año Fiscal 2024-2025
A8: Fuente de información: formulario 004-Presupuesto (Certificación 99 SA 2020-2021)
A9: Presupuesto total original asignado al Recinto | B9: =B12+E12 -> 172048404
A11: Rectoria, decantos y otras dependencias | B11: $ cantidad | D11: Facultad o Escuela | E11: $ cantidad
A12: Total | B12: =B13+B17+B26+B34+B38+B39+B43+B46 -> 74331263 | D12: Total | E12: =SUM(E13:E24) -> 97717141
A13: Servicio a la Comunidad | B13: =SUM(B14:B16) -> 740814 | D13: Escuela de Arquitectura | E13: 3890004
D14: Escuela de Derecho | E14: 6896535
A15: Teatro de la Universidad | B15: 296522 | D15: Escuela de Planificación | E15: 1173173
A16: Museo de Historia, Antropología y Arte | B16: 444292 | D16: Facultad de Administración de Empresas | E16: 8535857
A17: Decanatos Ejecutivos | B17: =SUM(B18:B25) -> 26161202 | D17: Facultad de Ciencias Naturales | E17: 16526121
A18: Decanato de Asuntos Académicos | B18: 3820328 | D18: Facultad de Ciencias Sociales | E18: 13107107
A19: Sistema de Bibliotecas | B19: 5733390 | D19: Facultad de Comunicación y Ciencias de la Información | E19: 2732072
A20: Decanato de Estudiantes | B20: 5622985 | D20: Estación de Radio y TV (WRTU) | E20: 876256
A21: Decanato de Administración | B21: 6063834 | D21: Facultad de Educación | E21: 14910506
A22: Decanato de Estudios Graduados e Investigación (DEGI) | B22: 1091665 | D22: Facultad de Estudios Generales | E22: 13529453
A23: Fondo Institucional parInvestigación | B23: 350000 | D23: Facultad de Humanidades | E23: 15053382
A24: Ayudantías Graduadas | B24: 1250000 | D24: Ascensos en Rango | E24: 486675
A25: Recobro de Costos Indirectos | B25: 2229000
A26: Rectoria y Unidades Adscritas | B26: =SUM(B27:B33) -> 10675204
A27: Oficina del Rector y unidades adscritas | B27: 3759282 | D27: Certificación Núm. 07, Junta Administrativa, Año Académico 2024-2025 - Distribución Presupuesto FY 2025 - UPR-RP
A28: División de Educación Continua y Estudios Profesionales (DECEP) | B28: 343683
A29: División de Tecnologías Académicas y Administrativas | B29: 1916755
A30: Senado Académico | B30: 242876
A31: Junta Administrativa | B31: 45620
A32: División de Seguridad y Manejo de Riesgos (DSMR) | B32: 2366988
A33: Servicios de Seguridad y Vigilancia Privada | B33: 2000000
A34: Operacion y Mantenimiento de PIanta Fisica | B34: =SUM(B35:B37) -> 11595864
A35: Oficina para la Conservación de las Instalaciones Universitarias (OCIU) | B35: 10485166
A36: Oficina de Protección Ambiental y Seguridad Ocupacional (OPASO) | B36: 632163
A37: Oficina de Planificación y Desarrollo Físico | B37: 478535
A38: Presupuesto asignado para utilidades (teléfono, agua y alcantarillado, energía eléctrica, etc.) | B38: 14438500
A39: Cuotas | B39: =SUM(B40:B42) -> 4436000
A40: Cuota de tecnologías | B40: 1262000
A41: Cuota de laboratorios | B41: 626000
A42: Cuota de mantenimiento | B42: 2548000
...

Sheet 004-Presupuesto AF 25-26
A1: Universidad de Puerto Rico - Recinto de Rio Piedras
A2: Decanato de Asuntos Académicos
A3: División de Investigación Institucional y Avalúo
E4: prmr - 25/octubre/2025
A5: Presupuesto total original asignado al Recinto
A6: Año Fiscal 2025-2026
A8: Fuente de información: formulario 004-Presupuesto (Certificación 99 SA 2020-2021)
A9: Presupuesto total original asignado al Recinto | B9: =B12+E12 -> 176117196
A11: Rectoria, decantos y otras dependencias | B11: $ cantidad | D11: Facultad o Escuela | E11: $ cantidad
A12: Total | B12: =B13+B17+B26+B34+B38+B39+B43+B46 -> 77406999 | D12: Total | E12: =SUM(E13:E24) -> 98710197
A13: Servicio a la Comunidad | B13: =SUM(B14:B16) -> 751699 | D13: Escuela de Arquitectura | E13: 3903095
D14: Escuela de Derecho | E14: 6934745
A15: Teatro de la Universidad | B15: 303706 | D15: Escuela de Planificación | E15: 1182108
A16: Museo de Historia, Antropología y Arte | B16: 447993 | D16: Facultad de Administración de Empresas | E16: 8752712
A17: Decanatos Ejecutivos | B17: =SUM(B18:B25) -> 27329494 | D17: Facultad de Ciencias Naturales | E17: 17011281
A18: Decanato de Asuntos Académicos | B18: 3827939 | D18: Facultad de Ciencias Sociales | E18: 13356697
A19: Sistema de Bibliotecas | B19: 6024219 | D19: Facultad de Comunicación y Ciencias de la Información | E19: 2742981
A20: Decanato de Estudiantes | B20: 5419539 | D20: Estación de Radio y TV (WRTU) | E20: 913391
A21: Decanato de Administración | B21: 6067183 | D21: Facultad de Educación | E21: 14975938
A22: Decanato de Estudios Graduados e Investigación (DEGI) | B22: 1109666 | D22: Facultad de Estudios Generales | E22: 13785721
A23: Fondo Institucional para la Investigación | B23: 0 | D23: Facultad de Humanidades | E23: 15151528
A24: Ayudantías Graduadas | B24: 2789876 | D24: Ascensos en Rango | E24: 0
A25: Recobro de Costos Indirectos | B25: 2091072
A26: Rectoria y Unidades Adscritas | B26: =SUM(B27:B33) -> 10739361
A27: Oficina del Rector y unidades adscritas | B27: 4029303 | D27: Fuente: Oficina de Presupuesto, Recinto de Río Piedras
A28: División de Educación Continua y Estudios Profesionales (DECEP) | B28: 425521
A29: División de Tecnologías Académicas y Administrativas | B29: 1862241
A30: Senado Académico | B30: 249536
A31: Junta Administrativa | B31: 36926
A32: División de Seguridad y Manejo de Riesgos (DSMR) | B32: 2135834
A33: Servicios de Seguridad y Vigilancia Privada | B33: 2000000
A34: Operacion y Mantenimiento de PIanta Fisica | B34: =SUM(B35:B37) -> 11668204
A35: Oficina para la Conservación de las Instalaciones Universitarias (OCIU) | B35: 10532792
A36: Oficina de Protección Ambiental y Seguridad Ocupacional (OPASO) | B36: 669519
A37: Oficina de Planificación y Desarrollo Físico | B37: 465893
A38: Presupuesto asignado para utilidades (teléfono, agua y alcantarillado, energía eléctrica, etc.) | B38: 16993631
A39: Cuotas | B39: =SUM(B40:B42) -> 3969300
A40: Cuota de tecnologías | B40: 1159900
A41: Cuota de laboratorios | B41: 576300
A42: Cuota de mantenimiento | B42: 2233100
...

Sheet 004-Presupuesto AF 26-27
A1: Universidad de Puerto Rico
A2: Recinto de Río Piedras
A3: Oficina de la Rectoría
A4: División de Investigación Institucional y Avalúo
E5: prmr/octubre2026
A6: Presupuesto total original asignado al Recinto
A7: Año Fiscal 2026-2027
A9: Fuente de información: formulario 004-Presupuesto (Certificación 99 SA 2020-2021)
A10: Presupuesto total original asignado al Recinto | B10: =B13+E13 -> 169037107
A12: Rectoria, decantos y otras dependencias | B12: $ cantidad | D12: Facultad o Escuela | E12: $ cantidad
A13: Total | B13: =B14+B18+B27+B36+B40+B41+B45+B48 -> 74095883 | D13: Total | E13: =SUM(E14:E25) -> 94941224
A14: Servicio a la Comunidad | B14: =SUM(B15:B17) -> 816490 | D14: Escuela de Arquitectura | E14: 4260067
D15: Escuela de Derecho | E15: 6332877
A16: Teatro de la Universidad | B16: 372210 | D16: Escuela de Planificación | E16: 1050532
A17: Museo de Historia, Antropología y Arte | B17: 444280 | D17: Facultad de Administración de Empresas | E17: 8191058
A18: Decanatos Ejecutivos | B18: =SUM(B19:B26) -> 24783190 | D18: Facultad de Ciencias Naturales | E18: 16705776
A19: Decanato de Asuntos Académicos | B19: 3944526 | D19: Facultad de Ciencias Sociales | E19: 13539474
A20: Sistema de Bibliotecas | B20: 6206871 | D20: Facultad de Comunicación y Ciencias de la Información | E20: 2594852
A21: Decanato de Estudiantes | B21: 5473928 | D21: Estación de Radio y TV (WRTU) | E21: 802004
A22: Decanato de Administración | B22: 5539292 | D22: Facultad de Educación | E22: 14191401
A23: Decanato de Estudios Graduados e Investigación (DEGI) | B23: 1166882 | D23: Facultad de Estudios Generales | E23: 13535713
A24: Fondo Institucional para la Investigación | B24: 0 | D24: Facultad de Humanidades | E24: 13737470
A25: Ayudantías Graduadas | B25: 2451691 | D25: Ascensos en Rango | E25: 0
A26: Recobro de Costos Indirectos | B26: 0
A27: Rectoria y Unidades Adscritas | B27: =SUM(B28:B35) -> 10120380
A28: Oficina del Rector y unidades adscritas | B28: 3397759 | D28: Fuente: Oficina de Presupuesto, Recinto de Río Piedras
A29: División de Educación Continua y Estudios Profesionales (DECEP) | B29: 477405 | D29: Director: Rafael Gierbolini
A30: División de Tecnologías Académicas y Administrativas | B30: 1743676
A31: Senado Académico | B31: 249780
A32: Junta Administrativa | B32: 37950
A33: División de Seguridad y Manejo de Riesgos (DSMR) | B33: 1862765
A34: Servicios de Seguridad y Vigilancia Privada | B34: 2000000
A35: Editorial RRP | B35: 351045
A36: Operacion y Mantenimiento de PIanta Fisica | B36: =SUM(B37:B39) -> 10478566
A37: Oficina para la Conservación de las Instalaciones Universitarias (OCIU) | B37: 9277403
A38: Oficina de Protección Ambiental y Seguridad Ocupacional (OPASO) | B38: 713107
A39: Oficina de Planificación y Desarrollo Físico | B39: 488056
A40: Presupuesto asignado para utilidades (teléfono, agua y alcantarillado, energía eléctrica, etc.) | B40: 18562195
A41: Cuotas | B41: =SUM(B42:B44) -> 4590899
A42: Cuota de tecnologías | B42: 1373365
...
